BEGIN:VCALENDAR
VERSION:2.0
PRODID:GIGPRESS 2.0 WORDPRESS PLUGIN
CALSCALE:GREGORIAN
X-WR-TIMEZONE:Etc/GMT
METHOD:PUBLISH
BEGIN:VTIMEZONE
TZID:GMT
BEGIN:STANDARD
DTSTART:20071028T010000
TZOFFSETTO:+0000
TZOFFSETFROM:+0000
END:STANDARD
END:VTIMEZONE
BEGIN:VEVENT
SUMMARY:The Zips at Bannerman's
DESCRIPTION:Notes: with Fire Exit  promoted by: Andrew Smith - Chaos Punk Gigs (Plymouth) All Ages/Licensed
LOCATION:Bannerman's\, 212 Cowgate\, Edinburgh\, UK
UID:20261024T200000Z-198-paulbates@outlook.com
URL:http://www.thezips.co.uk/gigs/
DTSTART;VALUE=DATE-TIME;TZID=GMT:20261024T200000Z
DTEND;VALUE=DATE-TIME;TZID=GMT:20261024T200000Z
DTSTAMP:20260424T034852Z
END:VEVENT
END:VCALENDAR