BEGIN:VCALENDAR
VERSION:2.0
PRODID:GIGPRESS 2.0 WORDPRESS PLUGIN
CALSCALE:GREGORIAN
X-WR-TIMEZONE:Etc/GMT
METHOD:PUBLISH
BEGIN:VTIMEZONE
TZID:GMT
BEGIN:STANDARD
DTSTART:20071028T010000
TZOFFSETTO:+0000
TZOFFSETFROM:+0000
END:STANDARD
END:VTIMEZONE
BEGIN:VEVENT
SUMMARY:The Zips at Thirty 3
DESCRIPTION:Notes: This is a punk all-dayer\, hosted by\, Filthy White Suit + 5 other bands. No Minors
LOCATION:Thirty 3\, 33 Main St\, Largs\, UK
UID:20260627T150000Z-204-paulbates@outlook.com
URL:http://www.thezips.co.uk/gigs/
DTSTART;VALUE=DATE-TIME;TZID=GMT:20260627T150000Z
DTEND;VALUE=DATE-TIME;TZID=GMT:20260627T150000Z
DTSTAMP:20260424T034858Z
END:VEVENT
END:VCALENDAR