BEGIN:VCALENDAR
VERSION:2.0
PRODID:GIGPRESS 2.0 WORDPRESS PLUGIN
CALSCALE:GREGORIAN
X-WR-TIMEZONE:Etc/GMT
METHOD:PUBLISH
BEGIN:VTIMEZONE
TZID:GMT
BEGIN:STANDARD
DTSTART:20071028T010000
TZOFFSETTO:+0000
TZOFFSETFROM:+0000
END:STANDARD
END:VTIMEZONE
BEGIN:VEVENT
SUMMARY:The Zips at Beat Generator
DESCRIPTION:Notes: This is part of a 2 day punk festival\, with The Zips + multiple bands. No Minors
LOCATION:Beat Generator\, 70 North Lindsay St\, Dundee\, UK
UID:20261017T190000Z-205-paulbates@outlook.com
URL:http://www.thezips.co.uk/gigs/
DTSTART;VALUE=DATE-TIME;TZID=GMT:20261017T190000Z
DTEND;VALUE=DATE-TIME;TZID=GMT:20261017T190000Z
DTSTAMP:20260424T035016Z
END:VEVENT
END:VCALENDAR