BEGIN:VCALENDAR
VERSION:2.0
PRODID:GIGPRESS 2.0 WORDPRESS PLUGIN
CALSCALE:GREGORIAN
X-WR-TIMEZONE:Etc/GMT
METHOD:PUBLISH
BEGIN:VTIMEZONE
TZID:GMT
BEGIN:STANDARD
DTSTART:20071028T010000
TZOFFSETTO:+0000
TZOFFSETFROM:+0000
END:STANDARD
END:VTIMEZONE
BEGIN:VEVENT
SUMMARY:The Zips at Nowawes
DESCRIPTION:No Minors
LOCATION:Nowawes\, Grossbeeren Strasse 5\, Potsdam-Babelsberg\, DE
UID:20261129T190000Z-207-paulbates@outlook.com
URL:http://www.thezips.co.uk/gigs/
DTSTART;VALUE=DATE-TIME;TZID=GMT:20261129T190000Z
DTEND;VALUE=DATE-TIME;TZID=GMT:20261129T190000Z
DTSTAMP:20260424T035519Z
END:VEVENT
END:VCALENDAR